BEGIN:VCALENDAR
VERSION:2.0
PRODID:-//Catholic Cemeteries &amp; Crematoria - ECPv6.15.14//NONSGML v1.0//EN
CALSCALE:GREGORIAN
METHOD:PUBLISH
X-ORIGINAL-URL:https://catholiccemeteries.com.au
X-WR-CALDESC:Events for Catholic Cemeteries &amp; Crematoria
REFRESH-INTERVAL;VALUE=DURATION:PT1H
X-Robots-Tag:noindex
X-PUBLISHED-TTL:PT1H
BEGIN:VTIMEZONE
TZID:Australia/Sydney
BEGIN:STANDARD
TZOFFSETFROM:+1100
TZOFFSETTO:+1000
TZNAME:AEST
DTSTART:20220402T160000
END:STANDARD
BEGIN:DAYLIGHT
TZOFFSETFROM:+1000
TZOFFSETTO:+1100
TZNAME:AEDT
DTSTART:20221001T160000
END:DAYLIGHT
BEGIN:STANDARD
TZOFFSETFROM:+1100
TZOFFSETTO:+1000
TZNAME:AEST
DTSTART:20230401T160000
END:STANDARD
BEGIN:DAYLIGHT
TZOFFSETFROM:+1000
TZOFFSETTO:+1100
TZNAME:AEDT
DTSTART:20230930T160000
END:DAYLIGHT
BEGIN:STANDARD
TZOFFSETFROM:+1100
TZOFFSETTO:+1000
TZNAME:AEST
DTSTART:20240406T160000
END:STANDARD
BEGIN:DAYLIGHT
TZOFFSETFROM:+1000
TZOFFSETTO:+1100
TZNAME:AEDT
DTSTART:20241005T160000
END:DAYLIGHT
END:VTIMEZONE
BEGIN:VEVENT
DTSTART;TZID=Australia/Sydney:20231205T094500
DTEND;TZID=Australia/Sydney:20231205T110000
DTSTAMP:20260422T003621
CREATED:20231005T232045Z
LAST-MODIFIED:20231005T232138Z
UID:17372-1701769500-1701774000@catholiccemeteries.com.au
SUMMARY:Monthly Mass Rookwood Catholic Cemetery
DESCRIPTION:Please join us for our Monthly Mass every 1st Tuesday of every month \nTime: 9.45am \nWhere: The Mausoleum of the Resurrection Chapel\, Rookwood Catholic Cemetery \n– Hospitality provided after mass\n– Onsite parking available \nPresided By: Fr Peter Guy
URL:https://catholiccemeteries.com.au/events/monthly-mass-rookwood-catholic-cemetery-15/
LOCATION:Rookwood Catholic Cemetery\, Barnet Avenue\, Rookwood\, NSW\, 2141\, Australia
ATTACH;FMTTYPE=image/jpeg:https://catholiccemeteries.com.au/wp-content/uploads/Floral-6-Events.jpg
END:VEVENT
BEGIN:VEVENT
DTSTART;TZID=Australia/Sydney:20231205T110000
DTEND;TZID=Australia/Sydney:20231205T120000
DTSTAMP:20260422T003621
CREATED:20231005T232414Z
LAST-MODIFIED:20231005T232414Z
UID:17379-1701774000-1701777600@catholiccemeteries.com.au
SUMMARY:Compassionate Companions at Rookwood
DESCRIPTION:Compassionate Companions at Rookwood \nAn opportunity to gather in a safe space to connect with others and share experiences of loss\, grief and bereavement. \nWhen: 1st Tuesday of the month from 11am – 12.30pm\nWhere: Rookwood Catholic Cemetery\nTime: 11am-12 pm \nMorning tea is provided. \nPlease RSVP prior to:\nGrief Care: Phone 9646 6908 or Carmela: 0498 271 649  Email: carmela@catholiccemeteries.com.au
URL:https://catholiccemeteries.com.au/events/compassionate-companions-at-rookwood-2/
LOCATION:Rookwood Catholic Cemetery\, Barnet Avenue\, Rookwood\, NSW\, 2141\, Australia
ATTACH;FMTTYPE=image/jpeg:https://catholiccemeteries.com.au/wp-content/uploads/commp-companions-0923.jpg
END:VEVENT
BEGIN:VEVENT
DTSTART;TZID=Australia/Sydney:20231206T190000
DTEND;TZID=Australia/Sydney:20231206T210000
DTSTAMP:20260422T003621
CREATED:20231005T232654Z
LAST-MODIFIED:20231005T232720Z
UID:17387-1701889200-1701896400@catholiccemeteries.com.au
SUMMARY:Men’s Grief Gathering
DESCRIPTION:The Men’s Grief Gathering will be held monthly on the first Wednesday of every month.\n\nWhere: Dooley’s Lidcombe Catholic Club\n11 – 17 Church Street\, Lidcombe\nTime: 7.00pm\n\nRSVP: team@griefcare.com.au\n\nFor more details\nPlease call the Grief Care Team on 9646 6908 during business hours or email team@griefcare.com.au
URL:https://catholiccemeteries.com.au/events/mens-grief-gathering-10/
LOCATION:Dooleys Catholic Club Lidcombe\, 11-17 Church Street\, Lidcombe\, NSW\, 2141\, Australia
ATTACH;FMTTYPE=image/jpeg:https://catholiccemeteries.com.au/wp-content/uploads/web-mens-gathering-1.jpg
END:VEVENT
BEGIN:VEVENT
DTSTART;TZID=Australia/Sydney:20231217T193000
DTEND;TZID=Australia/Sydney:20231217T203000
DTSTAMP:20260422T003621
CREATED:20230707T014906Z
LAST-MODIFIED:20231122T205942Z
UID:17002-1702841400-1702845000@catholiccemeteries.com.au
SUMMARY:Christmas Interfaith Remembrance Service 2023
DESCRIPTION:Catholic Cemeteries + Crematoria warmly invites you and your family to join us for our special Interfaith Christmas Remembrance Service to remember those we have lost in 2023. \nWhen: 7.30pm\, Sunday 17th December\, 2023\nWhere: St Mary’s Cathedral\, Sydney\nPresided by: Most Reverend Terence Brady\nAuxiliary Bishop Emeritus of Sydney \nLive music performances \nAfter the service\, please join us in Cathedral Square to view the stunning Christmas light show. \nAll Welcome \nOr View Online
URL:https://catholiccemeteries.com.au/events/christmas-remembrance-service-2023/
LOCATION:St Mary’s Cathedral\, Sydney\, 2 St Mary's Road\, Sydney\, NSW\, 2000
ATTACH;FMTTYPE=image/jpeg:https://catholiccemeteries.com.au/wp-content/uploads/xmas-remember-events-2023.jpg
END:VEVENT
BEGIN:VEVENT
DTSTART;TZID=Australia/Sydney:20231220T103000
DTEND;TZID=Australia/Sydney:20231220T113000
DTSTAMP:20260422T003621
CREATED:20231005T233107Z
LAST-MODIFIED:20231005T233107Z
UID:17395-1703068200-1703071800@catholiccemeteries.com.au
SUMMARY:Monthly Mass at Liverpool Cemetery
DESCRIPTION:Please join us for our Monthly Mass at Liverpool Cemetery \nTime: 10.30am \nLiverpool Cemetery\nPadre Pio Chapel \nPresided By: Fr Michael Smith \n– Hospitality provided after mass \nGrief Care team members are available for pastoral support on all masses.\nP: 02 9646 6908 E: team@griefcare.com.au
URL:https://catholiccemeteries.com.au/events/monthly-mass-at-liverpool-cemetery-3/
LOCATION:Liverpool Cemetery\, 207 Moore Street\, Liverpool\, NSW\, 2170\, Australia
ATTACH;FMTTYPE=image/jpeg:https://catholiccemeteries.com.au/wp-content/uploads/Floral-3-Events.jpg
END:VEVENT
BEGIN:VEVENT
DTSTART;TZID=Australia/Sydney:20231221T103000
DTEND;TZID=Australia/Sydney:20231221T233000
DTSTAMP:20260422T003621
CREATED:20231005T233409Z
LAST-MODIFIED:20231005T233409Z
UID:17402-1703154600-1703201400@catholiccemeteries.com.au
SUMMARY:Monthly Mass – Kemps Creek Memorial Park
DESCRIPTION:Please join us for our Monthly Mass every 3rd Thursday of every month\nTime: 10.30am\nWhere: Our Lady of Victories Catholic Parish\n1788 The Horsley Drive\, Horsley Park 2175\nPresider: Fr Dominik Karnas \n– Hospitality provided after mass for community gathering\n– Onsite parking available \nGrief Care team members are available for pastoral support on all masses.\nP: 02 9646 6908 E: team@griefcare.com.au
URL:https://catholiccemeteries.com.au/events/monthly-mass-kemps-creek-memorial-park-3/
LOCATION:NSW
ATTACH;FMTTYPE=image/jpeg:https://catholiccemeteries.com.au/wp-content/uploads/Floral-5-Events.jpg
END:VEVENT
END:VCALENDAR