BEGIN:VCALENDAR
VERSION:2.0
PRODID:-//Catholic Cemeteries &amp; Crematoria - ECPv6.15.14//NONSGML v1.0//EN
CALSCALE:GREGORIAN
METHOD:PUBLISH
X-WR-CALNAME:Catholic Cemeteries &amp; Crematoria
X-ORIGINAL-URL:https://catholiccemeteries.com.au
X-WR-CALDESC:Events for Catholic Cemeteries &amp; Crematoria
REFRESH-INTERVAL;VALUE=DURATION:PT1H
X-Robots-Tag:noindex
X-PUBLISHED-TTL:PT1H
BEGIN:VTIMEZONE
TZID:Australia/Sydney
BEGIN:STANDARD
TZOFFSETFROM:+1100
TZOFFSETTO:+1000
TZNAME:AEST
DTSTART:20210403T160000
END:STANDARD
BEGIN:DAYLIGHT
TZOFFSETFROM:+1000
TZOFFSETTO:+1100
TZNAME:AEDT
DTSTART:20211002T160000
END:DAYLIGHT
BEGIN:STANDARD
TZOFFSETFROM:+1100
TZOFFSETTO:+1000
TZNAME:AEST
DTSTART:20220402T160000
END:STANDARD
BEGIN:DAYLIGHT
TZOFFSETFROM:+1000
TZOFFSETTO:+1100
TZNAME:AEDT
DTSTART:20221001T160000
END:DAYLIGHT
BEGIN:STANDARD
TZOFFSETFROM:+1100
TZOFFSETTO:+1000
TZNAME:AEST
DTSTART:20230401T160000
END:STANDARD
BEGIN:DAYLIGHT
TZOFFSETFROM:+1000
TZOFFSETTO:+1100
TZNAME:AEDT
DTSTART:20230930T160000
END:DAYLIGHT
BEGIN:STANDARD
TZOFFSETFROM:+1100
TZOFFSETTO:+1000
TZNAME:AEST
DTSTART:20240406T160000
END:STANDARD
BEGIN:DAYLIGHT
TZOFFSETFROM:+1000
TZOFFSETTO:+1100
TZNAME:AEDT
DTSTART:20241005T160000
END:DAYLIGHT
END:VTIMEZONE
BEGIN:VEVENT
DTSTART;TZID=Australia/Sydney:20230207T094500
DTEND;TZID=Australia/Sydney:20230207T104500
DTSTAMP:20260420T104550
CREATED:20221226T211716Z
LAST-MODIFIED:20221226T211843Z
UID:16328-1675763100-1675766700@catholiccemeteries.com.au
SUMMARY:Monthly Mass Rookwood Catholic Cemetery
DESCRIPTION:Please join us for our Monthly Mass every 1st Tuesday of every month \nTime: 9.45am \nWhere: The Mausoleum of the Resurrection Chapel\, Rookwood Catholic Cemetery \n– Hospitality provided after mass\n– Onsite parking available \nPresided By: Fr Peter Guy \nGrief Care team members are available for pastoral support on all masses.\nP: 02 9646 6908 E:team@griefcare.com.au
URL:https://catholiccemeteries.com.au/events/monthly-mass-rookwood-catholic-cemetery-5/
LOCATION:The Mausoleum of the Resurrection Chapel\, Rookwood Catholic Cemetery\, NSW\, Australia
ATTACH;FMTTYPE=image/jpeg:https://catholiccemeteries.com.au/wp-content/uploads/Statue-Liverpool-1.jpg
END:VEVENT
BEGIN:VEVENT
DTSTART;TZID=Australia/Sydney:20230119T103000
DTEND;TZID=Australia/Sydney:20230119T103000
DTSTAMP:20260420T104550
CREATED:20221226T212406Z
LAST-MODIFIED:20221226T214701Z
UID:16330-1674124200-1674124200@catholiccemeteries.com.au
SUMMARY:Kemps Creek Monthly Mass
DESCRIPTION:Please join us for our Monthly Mass every 3rd Thursday of every month\nTime: 10.30am\nWhere: Our Lady of Victories Catholic Parish\n1788 The Horsley Drive\, Horsley Park 2175 \n– Hospitality provided after mass for community gathering\n– Onsite parking available \nGrief Care team members are available for pastoral support on all masses.\nP: 02 9646 6908 E: team@griefcare.com.au
URL:https://catholiccemeteries.com.au/events/kemps-creek-monthly-mass-4/
LOCATION:Our Lady of Victories Catholic Parish Church\, 1788 The Horsley Drive\, Horsley Park\, NSW\, 2175\, Australia
ATTACH;FMTTYPE=image/jpeg:https://catholiccemeteries.com.au/wp-content/uploads/Floral-2-Events.jpg
END:VEVENT
BEGIN:VEVENT
DTSTART;TZID=Australia/Sydney:20230111T103000
DTEND;TZID=Australia/Sydney:20230111T113000
DTSTAMP:20260420T104550
CREATED:20221226T212816Z
LAST-MODIFIED:20221226T214512Z
UID:16332-1673433000-1673436600@catholiccemeteries.com.au
SUMMARY:Monthly Mass Liverpool Cemetery
DESCRIPTION:Please join us for our Monthly Mass every 2nd Wednesday of every month \nTime: 10.30am \nAll Saints Catholic Parish\n48 George Street\, Liverpool 2170\n(parking entrance via Elizabeth Street) \nPresided By: Fr Michael Smith \nGrief Care team members are available for pastoral support on all masses.\nP: 02 9646 6908 E: team@griefcare.com.au
URL:https://catholiccemeteries.com.au/events/monthly-mass-liverpool-cemetery-7/
LOCATION:All Saints Parish Liverpool\, 48 George Street\, Liverpool\, NSW\, 2170\, Australia
ATTACH;FMTTYPE=image/jpeg:https://catholiccemeteries.com.au/wp-content/uploads/Floral-7-Events.jpg
END:VEVENT
BEGIN:VEVENT
DTSTART;TZID=Australia/Sydney:20230103T094500
DTEND;TZID=Australia/Sydney:20230103T104500
DTSTAMP:20260420T104550
CREATED:20221226T211221Z
LAST-MODIFIED:20221226T214604Z
UID:16326-1672739100-1672742700@catholiccemeteries.com.au
SUMMARY:Monthly Mass Rookwood Catholic Cemetery
DESCRIPTION:Please join us for our Monthly Mass every 1st Tuesday of every month \nTime: 9.45am \nWhere: The Mausoleum of the Resurrection Chapel\, Rookwood Catholic Cemetery \n– Hospitality provided after mass\n– Onsite parking available \nPresided By: Fr Peter Guy \nGrief Care team members are available for pastoral support on all masses.\nP: 02 9646 6908 E:team@griefcare.com.au
URL:https://catholiccemeteries.com.au/events/monthly-mass-rookwood-catholic-cemetery-4/
LOCATION:The Mausoleum of the Resurrection Chapel\, Rookwood Catholic Cemetery\, NSW\, Australia
ATTACH;FMTTYPE=image/jpeg:https://catholiccemeteries.com.au/wp-content/uploads/Floral-1-Events.jpg
END:VEVENT
BEGIN:VEVENT
DTSTART;TZID=Australia/Sydney:20221218T193000
DTEND;TZID=Australia/Sydney:20221218T203000
DTSTAMP:20260420T104550
CREATED:20221102T093052Z
LAST-MODIFIED:20221218T215024Z
UID:16046-1671391800-1671395400@catholiccemeteries.com.au
SUMMARY:Christmas Remembrance Service 2022
DESCRIPTION:Catholic Cemeteries + Crematoria warmly invites you and your family to join us for our special Interfaith Christmas Remembrance Service to remember those we have lost in 2022. \nWhen: 7.30pm\, Sunday 18th December\, 2022\nWhere: St Mary’s Cathedral\, Sydney\nPresided by: Most Reverend Terence Brady\nAuxiliary Bishop Emeritus of Sydney \nLive music performances \nAll Welcome \nVIEW THE SERVICE LIVESTREAM \nVIEW OR DOWNLOAD THE ORDER OF SERVICE BOOKLET \nRSVP NOW
URL:https://catholiccemeteries.com.au/events/christmas-remembrance-service-2022/
LOCATION:St Mary’s Cathedral\, Sydney\, 2 St Mary's Road\, Sydney\, NSW\, 2000
ATTACH;FMTTYPE=image/jpeg:https://catholiccemeteries.com.au/wp-content/uploads/christmas-carols.jpg
END:VEVENT
BEGIN:VEVENT
DTSTART;TZID=Australia/Sydney:20221216T113000
DTEND;TZID=Australia/Sydney:20221216T123000
DTSTAMP:20260420T104550
CREATED:20221102T092717Z
LAST-MODIFIED:20221117T045512Z
UID:16044-1671190200-1671193800@catholiccemeteries.com.au
SUMMARY:Compassionate Companions
DESCRIPTION:A safe place where stories are shared and memories are honoured. \nWhen: Fortnightly on Fridays\nTime: 11.30am – 12.30pm \nJoin us on Zoom \n\nMeeting ID: 969 4042 6907\n\nPasscode: 437686
URL:https://catholiccemeteries.com.au/events/compassionate-companions-16/
LOCATION:Online Event
ATTACH;FMTTYPE=image/jpeg:https://catholiccemeteries.com.au/wp-content/uploads/GC-CompCom-Banner1-web.jpg
END:VEVENT
BEGIN:VEVENT
DTSTART;TZID=Australia/Sydney:20221215T103000
DTEND;TZID=Australia/Sydney:20221215T113000
DTSTAMP:20260420T104550
CREATED:20221102T094624Z
LAST-MODIFIED:20221117T045903Z
UID:16055-1671100200-1671103800@catholiccemeteries.com.au
SUMMARY:Kemps Creek Monthly Mass
DESCRIPTION:Please join us for our Monthly Mass every 3rd Thursday of every month\nTime: 10.30am\nWhere: Our Lady of Victories Catholic Parish\n1788 The Horsley Drive\, Horsley Park 2175 \n– Hospitality provided after mass for community gathering\n– Onsite parking available \nGrief Care team members are available for pastoral support on all masses.\nP: 02 9646 6908 E: team@griefcare.com.au
URL:https://catholiccemeteries.com.au/events/kemps-creek-monthly-mass-3/
LOCATION:Our Lady of Victories Catholic Parish Church\, 1788 The Horsley Drive\, Horsley Park\, NSW\, 2175\, Australia
ATTACH;FMTTYPE=image/jpeg:https://catholiccemeteries.com.au/wp-content/uploads/2019/07/events_slider.jpg
END:VEVENT
BEGIN:VEVENT
DTSTART;TZID=Australia/Sydney:20221214T103000
DTEND;TZID=Australia/Sydney:20221214T113000
DTSTAMP:20260420T104550
CREATED:20221102T094304Z
LAST-MODIFIED:20221102T094304Z
UID:16053-1671013800-1671017400@catholiccemeteries.com.au
SUMMARY:Monthly Mass Liverpool Cemetery
DESCRIPTION:Please join us for our Monthly Mass every 2nd Wednesday of every month \nTime: 10.30am \nAll Saints Catholic Parish\n48 George Street\, Liverpool 2170\n(parking entrance via Elizabeth Street) \nPresided By: Fr Michael Smith \nGrief Care team members are available for pastoral support on all masses.\nP: 02 9646 6908 E: team@griefcare.com.au
URL:https://catholiccemeteries.com.au/events/monthly-mass-liverpool-cemetery-6/
LOCATION:All Saints Parish Liverpool\, 48 George Street\, Liverpool\, NSW\, 2170\, Australia
ATTACH;FMTTYPE=image/jpeg:https://catholiccemeteries.com.au/wp-content/uploads/cemetery_chair_03.jpg
END:VEVENT
BEGIN:VEVENT
DTSTART;TZID=Australia/Sydney:20221208T173000
DTEND;TZID=Australia/Sydney:20221208T193000
DTSTAMP:20260420T104550
CREATED:20221017T032901Z
LAST-MODIFIED:20221117T045828Z
UID:15938-1670520600-1670527800@catholiccemeteries.com.au
SUMMARY:Men's Grief Gathering
DESCRIPTION:The next Men’s Grief Gathering will be held on 8 December at\n\nWhere: The Keg and Brew at Surry Hills\,\nTime: 5.30 pm to 7.30 pm.\n\nRSVP: tgrady@catholiccemeteries.com.au\n\nFor more details\nPlease call Terry from the Grief Care Team on 9646 6908 during business hours or email tgrady@catholiccemeteries.com.au\nOR call Chris on 0418 488 791
URL:https://catholiccemeteries.com.au/events/mens-grief-gathering-3/
LOCATION:The Keg and Brew at Surry Hills\, 26 Foveaux St\, Surry Hills\, NSW\, 2010\, Australia
ATTACH;FMTTYPE=image/jpeg:https://catholiccemeteries.com.au/wp-content/uploads/web-mens-gathering-1.jpg
END:VEVENT
BEGIN:VEVENT
DTSTART;TZID=Australia/Sydney:20221206T094500
DTEND;TZID=Australia/Sydney:20221206T104500
DTSTAMP:20260420T104550
CREATED:20221102T093832Z
LAST-MODIFIED:20221129T032906Z
UID:16051-1670319900-1670323500@catholiccemeteries.com.au
SUMMARY:Monthly Mass Rookwood Catholic Cemetery
DESCRIPTION:Please join us for our Monthly Mass every 1st Tuesday of every month \nTime: 9.45am \nWhere: The Mausoleum of the Resurrection Chapel\, Rookwood Catholic Cemetery \n– Hospitality provided after mass\n– Onsite parking available \nPresided By: Fr Peter Guy \nGrief Care team members are available for pastoral support on all masses.\nP: 02 9646 6908 E:team@griefcare.com.au
URL:https://catholiccemeteries.com.au/events/monthly-mass-rookwood-catholic-cemetery-3/
LOCATION:The Mausoleum of the Resurrection Chapel\, Rookwood Catholic Cemetery\, NSW\, Australia
ATTACH;FMTTYPE=image/jpeg:https://catholiccemeteries.com.au/wp-content/uploads/2019/07/slider-21-608x300.jpg
END:VEVENT
BEGIN:VEVENT
DTSTART;TZID=Australia/Sydney:20221202T113000
DTEND;TZID=Australia/Sydney:20221202T123000
DTSTAMP:20260420T104550
CREATED:20221102T092221Z
LAST-MODIFIED:20221117T045445Z
UID:16042-1669980600-1669984200@catholiccemeteries.com.au
SUMMARY:Compassionate Companions
DESCRIPTION:A safe place where stories are shared and memories are honoured. \nWhen: Fortnightly on Fridays\nTime: 11.30am – 12.30pm \nJoin us on Zoom \n\nMeeting ID: 969 4042 6907\n\nPasscode: 437686
URL:https://catholiccemeteries.com.au/events/compassionate-companions-15/
LOCATION:Online Event
ATTACH;FMTTYPE=image/jpeg:https://catholiccemeteries.com.au/wp-content/uploads/GC-CompCom-Banner1-web.jpg
END:VEVENT
BEGIN:VEVENT
DTSTART;TZID=Australia/Sydney:20221129T180000
DTEND;TZID=Australia/Sydney:20221129T200000
DTSTAMP:20260420T104550
CREATED:20221031T050631Z
LAST-MODIFIED:20221117T224244Z
UID:16021-1669744800-1669752000@catholiccemeteries.com.au
SUMMARY:TAIZE Prayer Service
DESCRIPTION:Please join us for our TAIZE Prayer Service \nWhen: 6pm\, Tuesday 29th November 2022 \nWhere: St Michael of the Archangel Chapel\, Rookwood Catholic Cemetery \nGrief Care team members are available for pastoral support on all masses.\nP: 02 9646 6908 E: team@griefcare.com.au
URL:https://catholiccemeteries.com.au/events/taize-prayer-service/
LOCATION:Rookwood Catholic Cemetery\, Barnet Avenue\, Rookwood\, NSW\, 2141\, Australia
ATTACH;FMTTYPE=image/jpeg:https://catholiccemeteries.com.au/wp-content/uploads/Grief-care-TAIZE-Prayer.jpg
END:VEVENT
BEGIN:VEVENT
DTSTART;TZID=Australia/Sydney:20221123T120000
DTEND;TZID=Australia/Sydney:20221123T140000
DTSTAMP:20260420T104550
CREATED:20221017T040847Z
LAST-MODIFIED:20221103T010724Z
UID:15944-1669204800-1669212000@catholiccemeteries.com.au
SUMMARY:Deceased Clergy  & Religious Mass
DESCRIPTION:We hope you can join us for this special Mass + Luncheon \nWhen: 12 Noon\, Wednesday 23rd November \nWhere: Mary\, Mother of Mercy Chapel\, Rookwood Catholic Cemetery \nRSVP by 11th November: RSVP TODAY
URL:https://catholiccemeteries.com.au/events/deceased-clergy-religious-mass/
LOCATION:Rookwood Catholic Cemetery\, Barnet Avenue\, Rookwood\, NSW\, 2141\, Australia
ATTACH;FMTTYPE=image/jpeg:https://catholiccemeteries.com.au/wp-content/uploads/CCC-DPR-fb-e1665979685989.jpg
END:VEVENT
BEGIN:VEVENT
DTSTART;TZID=Australia/Sydney:20221118T113000
DTEND;TZID=Australia/Sydney:20221118T123000
DTSTAMP:20260420T104550
CREATED:20221102T092015Z
LAST-MODIFIED:20221117T045438Z
UID:16040-1668771000-1668774600@catholiccemeteries.com.au
SUMMARY:Compassionate Companions
DESCRIPTION:A safe place where stories are shared and memories are honoured. \nWhen: Fortnightly on Fridays\nTime: 11.30am – 12.30pm \nJoin us on Zoom \n\nMeeting ID: 969 4042 6907\n\nPasscode: 437686
URL:https://catholiccemeteries.com.au/events/compassionate-companions-14/
LOCATION:Online Event
ATTACH;FMTTYPE=image/jpeg:https://catholiccemeteries.com.au/wp-content/uploads/GC-CompCom-Banner1-web.jpg
END:VEVENT
BEGIN:VEVENT
DTSTART;TZID=Australia/Sydney:20221117T103000
DTEND;TZID=Australia/Sydney:20221117T113000
DTSTAMP:20260420T104550
CREATED:20221017T041306Z
LAST-MODIFIED:20221017T041306Z
UID:15948-1668681000-1668684600@catholiccemeteries.com.au
SUMMARY:Kemps Creek Monthly Mass
DESCRIPTION:Please join us for our Monthly Mass every 3rd Thursday of every month\nTime: 10.30am\nWhere: Our Lady of Victories Catholic Parish\n1788 The Horsley Drive\, Horsley Park 2175 \n– Hospitality provided after mass for community gathering\n– Onsite parking available \nGrief Care team members are available for pastoral support on all masses.\nP: 02 9646 6908 E: team@griefcare.com.au
URL:https://catholiccemeteries.com.au/events/kemps-creek-monthly-mass-2/
LOCATION:Our Lady of Victories Catholic Parish Church\, 1788 The Horsley Drive\, Horsley Park\, NSW\, 2175\, Australia
ATTACH;FMTTYPE=image/jpeg:https://catholiccemeteries.com.au/wp-content/uploads/cemetery_chair_03.jpg
END:VEVENT
BEGIN:VEVENT
DTSTART;TZID=Australia/Sydney:20221116T183000
DTEND;TZID=Australia/Sydney:20221116T193000
DTSTAMP:20260420T104550
CREATED:20221028T013709Z
LAST-MODIFIED:20221028T013709Z
UID:15980-1668623400-1668627000@catholiccemeteries.com.au
SUMMARY:Mention My Name\,  Memorial Mass - Mortlake
DESCRIPTION:Please join us for this special Memorial Mass \nThis memorial mass will remember those who have lost lives through suicide or self-harm\, and\nwe pray for their grieving families\, friends\, caregivers and first responders. \nWhen: \n6.30pm Wednesday 16th November 2022 \nWhere: \nSt Patrick’s Parish\, Mortlake \n33 Gale Street\, Mortlake
URL:https://catholiccemeteries.com.au/events/mention-my-name-memorial-mass-mortlake/
LOCATION:St Patricks Parish Mortlake\, 33 Gale Street\, Mortlake\, NSW\, 2137\, Australia
ATTACH;FMTTYPE=image/jpeg:https://catholiccemeteries.com.au/wp-content/uploads/CCC-MMN-fb-e1666920935820.jpg
END:VEVENT
BEGIN:VEVENT
DTSTART;TZID=Australia/Sydney:20221109T183000
DTEND;TZID=Australia/Sydney:20221109T193000
DTSTAMP:20260420T104550
CREATED:20221017T040352Z
LAST-MODIFIED:20221017T040433Z
UID:15940-1668018600-1668022200@catholiccemeteries.com.au
SUMMARY:Remembering Our Babies Mass of the Angels
DESCRIPTION:Please join us for this special service for Pregnancy\, Infant & Child Loss Service \nWhen:  \n6.30pm Wednesday 9th November 2022 \nWhere:  \nSt Patrick’s Parish\, Mortlake \n33 Gale Street\, Mortlake
URL:https://catholiccemeteries.com.au/events/remembering-our-babies-mass-of-the-angels/
LOCATION:St Patricks Parish Mortlake\, 33 Gale Street\, Mortlake\, NSW\, 2137\, Australia
ATTACH;FMTTYPE=image/jpeg:https://catholiccemeteries.com.au/wp-content/uploads/CCC-ROB-Mortlake-fb-e1665979409671.jpg
END:VEVENT
BEGIN:VEVENT
DTSTART;TZID=Australia/Sydney:20221109T103000
DTEND;TZID=Australia/Sydney:20221109T113000
DTSTAMP:20260420T104550
CREATED:20221017T025743Z
LAST-MODIFIED:20221017T032953Z
UID:15934-1667989800-1667993400@catholiccemeteries.com.au
SUMMARY:Monthly Mass Liverpool Cemetery
DESCRIPTION:Please join us for our Monthly Mass every 2nd Wednesday of every month \nTime: 10.30am \nAll Saints Catholic Parish\n48 George Street\, Liverpool 2170\n(parking entrance via Elizabeth Street) \nPresided By: Fr Michael Smith \nGrief Care team members are available for pastoral support on all masses.\nP: 02 9646 6908 E: team@griefcare.com.au
URL:https://catholiccemeteries.com.au/events/monthly-mass-liverpool-cemetery-5/
LOCATION:All Saints Parish Liverpool\, 48 George Street\, Liverpool\, NSW\, 2170\, Australia
ATTACH;FMTTYPE=image/jpeg:https://catholiccemeteries.com.au/wp-content/uploads/CCC-BringHome-fb-e1658357897358.jpg
END:VEVENT
BEGIN:VEVENT
DTSTART;TZID=Australia/Sydney:20221104T113000
DTEND;TZID=Australia/Sydney:20221104T123000
DTSTAMP:20260420T104550
CREATED:20221102T091641Z
LAST-MODIFIED:20221117T045431Z
UID:16038-1667561400-1667565000@catholiccemeteries.com.au
SUMMARY:Compassionate Companions
DESCRIPTION:A safe place where stories are shared and memories are honoured. \nWhen: Fortnightly on Fridays\nTime: 11.30am – 12.30pm \nJoin us on Zoom \n\nMeeting ID: 969 4042 6907\n\nPasscode: 437686
URL:https://catholiccemeteries.com.au/events/compassionate-companions-13/
LOCATION:Online Event
ATTACH;FMTTYPE=image/jpeg:https://catholiccemeteries.com.au/wp-content/uploads/GC-CompCom-Banner1-web.jpg
END:VEVENT
BEGIN:VEVENT
DTSTART;TZID=Australia/Sydney:20221102T190000
DTEND;TZID=Australia/Sydney:20221102T200000
DTSTAMP:20260420T104550
CREATED:20221028T012546Z
LAST-MODIFIED:20221028T012812Z
UID:15976-1667415600-1667419200@catholiccemeteries.com.au
SUMMARY:All Souls Day Remembrance Mass - Panania
DESCRIPTION:Please join us for this very special All Souls Day Remembrance Mass \nWhen:\n7pm\, Wednesday 2nd November \nWhere:\nSt Christopher Parish\, Panania \nCelebrant:\nRev Fr. Salas Muttathukattil MSFS \nAll are Welcome\n\n\nGrief Care team members are available for pastoral support on all masses.\nP: 02 9646 6908 E:team@griefcare.com.au
URL:https://catholiccemeteries.com.au/events/all-souls-day-remembrance-mass-panania/
LOCATION:St Christopher Parish\, Panania\, 233 Tower Street\, Panania\, NSW\, 2213\, Australia
ATTACH;FMTTYPE=image/jpeg:https://catholiccemeteries.com.au/wp-content/uploads/CCC-ASD-fb-e1664423246821.jpg
END:VEVENT
BEGIN:VEVENT
DTSTART;TZID=Australia/Sydney:20221101T094500
DTEND;TZID=Australia/Sydney:20221101T104500
DTSTAMP:20260420T104550
CREATED:20221017T025311Z
LAST-MODIFIED:20221017T030129Z
UID:15932-1667295900-1667299500@catholiccemeteries.com.au
SUMMARY:Monthly Mass Rookwood Catholic Cemetery
DESCRIPTION:Please join us for our Monthly Mass every 1st Tuesday of every month \nTime: 9.45am \nWhere: The Mausoleum of the Resurrection Chapel\, Rookwood Catholic Cemetery \n– Hospitality provided after mass\n– Onsite parking available \nPresided By: Fr Peter Guy \nGrief Care team members are available for pastoral support on all masses.\nP: 02 9646 6908 E: team@griefcare.com.au
URL:https://catholiccemeteries.com.au/events/monthly-mass-rookwood-catholic-cemetery-2/
LOCATION:The Mausoleum of the Resurrection Chapel\, Rookwood Catholic Cemetery\, NSW\, Australia
ATTACH;FMTTYPE=image/jpeg:https://catholiccemeteries.com.au/wp-content/uploads/CCC-Mausoleum-Chapel.jpg
END:VEVENT
BEGIN:VEVENT
DTSTART;TZID=Australia/Sydney:20221029T120000
DTEND;TZID=Australia/Sydney:20221029T130000
DTSTAMP:20260420T104550
CREATED:20220929T034746Z
LAST-MODIFIED:20220929T034746Z
UID:15832-1667044800-1667048400@catholiccemeteries.com.au
SUMMARY:All Souls Day Memorial Mass
DESCRIPTION:Please join us for this very special All Souls Day Memorial Mass of Remembrance \nWhen:\n12 noon\, Saturday\, 29th October \nWhere:\nMary\, Mother of Mercy Chapel\nRookwood Catholic Cemetery \nCelebrant:\nMost Reverend Bishop Terence Brady\nDD VG EV\, Auxiliary Bishop of Sydney \nAll are Welcome\n\nGrief Care team members are available for pastoral support on all masses.\nP: 02 9646 6908 E:team@griefcare.com.au
URL:https://catholiccemeteries.com.au/events/all-souls-day-memorial-mass/
LOCATION:Rookwood Catholic Cemetery\, Barnet Avenue\, Rookwood\, NSW\, 2141\, Australia
ATTACH;FMTTYPE=image/jpeg:https://catholiccemeteries.com.au/wp-content/uploads/CCC-ASD-fb-e1664423246821.jpg
END:VEVENT
BEGIN:VEVENT
DTSTART;TZID=Australia/Sydney:20221020T103000
DTEND;TZID=Australia/Sydney:20221020T113000
DTSTAMP:20260420T104550
CREATED:20220915T165800Z
LAST-MODIFIED:20220915T165800Z
UID:15697-1666261800-1666265400@catholiccemeteries.com.au
SUMMARY:Kemps Creek Monthly Mass
DESCRIPTION:Please join us for our Monthly Mass every 3rd Thursday of every month\nTime: 10.30am\nWhere: Our Lady of Victories Catholic Parish\n1788 The Horsley Drive\, Horsley Park 2175 \n– Hospitality provided after mass for community gathering\n– Onsite parking available \nGrief Care team members are available for pastoral support on all masses.\nP: 02 9646 6908 E:team@griefcare.com.au
URL:https://catholiccemeteries.com.au/events/kemps-creek-monthly-mass/
LOCATION:Our Lady of Victories Catholic Parish Church\, 1788 The Horsley Drive\, Horsley Park\, NSW\, 2175\, Australia
ATTACH;FMTTYPE=image/jpeg:https://catholiccemeteries.com.au/wp-content/uploads/CCC-home-Slide-1.jpg
END:VEVENT
BEGIN:VEVENT
DTSTART;TZID=Australia/Sydney:20221013T203000
DTEND;TZID=Australia/Sydney:20221013T203000
DTSTAMP:20260420T104550
CREATED:20220929T033931Z
LAST-MODIFIED:20220929T033931Z
UID:15826-1665693000-1665693000@catholiccemeteries.com.au
SUMMARY:Remembering Our Babies\, All Saints Liverpool
DESCRIPTION:We hope you can join us for at our special Remembering Our Babies Service for Pregnancy\, Infant & Child Loss \nWhen: 7.30pm\, 13th October\, 2022\nWhere: All Saints Catholic Parish\n48 George Street\, Liverpool \nAll are Welcome\n\nGrief Care team members are available for pastoral support on all masses.\nP: 02 9646 6908 E:team@griefcare.com.au
URL:https://catholiccemeteries.com.au/events/remembering-our-babies-all-saints-liverpool/
LOCATION:All Saints Parish Liverpool\, 48 George Street\, Liverpool\, NSW\, 2170\, Australia
ATTACH;FMTTYPE=image/jpeg:https://catholiccemeteries.com.au/wp-content/uploads/Remember-Babies-FB-e1664422734595.jpg
END:VEVENT
BEGIN:VEVENT
DTSTART;TZID=Australia/Sydney:20221012T103000
DTEND;TZID=Australia/Sydney:20221012T113000
DTSTAMP:20260420T104550
CREATED:20220915T165044Z
LAST-MODIFIED:20220915T165922Z
UID:15695-1665570600-1665574200@catholiccemeteries.com.au
SUMMARY:Monthly Mass Liverpool Cemetery
DESCRIPTION:Please join us for our October Monthly Mass every 2nd Wednesday of every month \nTime: 10.30am \nAll Saints Catholic Parish\n48 George Street\, Liverpool 2170\n(parking entrance via Elizabeth Street) \nPresided By: Fr Michael Smith \nGrief Care team members are available for pastoral support on all masses.\nP: 02 9646 6908 E:team@griefcare.com.au
URL:https://catholiccemeteries.com.au/events/monthly-mass-liverpool-cemetery-4/
LOCATION:All Saints Parish Liverpool\, 48 George Street\, Liverpool\, NSW\, 2170\, Australia
ATTACH;FMTTYPE=image/jpeg:https://catholiccemeteries.com.au/wp-content/uploads/white-lily-on-bench-at-funeral.jpg
END:VEVENT
BEGIN:VEVENT
DTSTART;TZID=Australia/Sydney:20221011T180000
DTEND;TZID=Australia/Sydney:20221011T190000
DTSTAMP:20260420T104550
CREATED:20220929T031623Z
LAST-MODIFIED:20220929T031623Z
UID:15822-1665511200-1665514800@catholiccemeteries.com.au
SUMMARY:Wave of Light - Memorial Service
DESCRIPTION:We hope you can join us for this special Memorial Service for Pregnancy\, Infant & Child Loss \nWhen: 6pm\, 11th October\, 2022\nWhere: St Gerard Majella Lawns\,\nRookwood Catholic Cemetery \nGrief Care team members are available for pastoral support on all masses.\nP: 02 9646 6908 E:team@griefcare.com.au
URL:https://catholiccemeteries.com.au/events/wave-of-light-memorial-service-2/
LOCATION:Rookwood Catholic Cemetery\, Barnet Avenue\, Rookwood\, NSW\, 2141\, Australia
ATTACH;FMTTYPE=image/jpeg:https://catholiccemeteries.com.au/wp-content/uploads/CCC-WaveLight-fb-2022-e1664421224969.jpg
END:VEVENT
BEGIN:VEVENT
DTSTART;TZID=Australia/Sydney:20221008T100000
DTEND;TZID=Australia/Sydney:20221008T110000
DTSTAMP:20260420T104550
CREATED:20220929T030958Z
LAST-MODIFIED:20220929T030958Z
UID:15817-1665223200-1665226800@catholiccemeteries.com.au
SUMMARY:Pregnancy\, Infant + Child Loss Mass\, St Paul's Camden
DESCRIPTION:Please join us for our Remembrance Mass for Pregnancy\, Infant + Child Loss \nWhen: 10am\, 8th October\,2022 \nWhere: St Paul’s Camden\, 26 John Street\, Camden \nAll are welcome \nGrief Care team members are available for pastoral support on all masses.\nP: 02 9646 6908 E:team@griefcare.com.au
URL:https://catholiccemeteries.com.au/events/pregnancy-infant-child-loss-mass-st-pauls-camden/
LOCATION:St Pauls Camden\, 26 John Street\, Camden\, NSW\, 2570\, Australia
ATTACH;FMTTYPE=image/jpeg:https://catholiccemeteries.com.au/wp-content/uploads/PICL-FB-e1664420640796.jpg
END:VEVENT
BEGIN:VEVENT
DTSTART;TZID=Australia/Sydney:20221004T094500
DTEND;TZID=Australia/Sydney:20221004T104500
DTSTAMP:20260420T104550
CREATED:20220915T095744Z
LAST-MODIFIED:20220915T170242Z
UID:15671-1664876700-1664880300@catholiccemeteries.com.au
SUMMARY:Monthly Mass Rookwood Catholic Cemetery
DESCRIPTION:Please join us for our Monthly Mass every 1st Tuesday of every month \nTime: 9.45am \nWhere: The Mausoleum of the Resurrection Chapel\, Rookwood Catholic Cemetery \n– Hospitality provided after mass\n– Onsite parking available \nPresided By: Fr Peter Guy \nGrief Care team members are available for pastoral support on all masses.\nP: 02 9646 6908 E:team@griefcare.com.au
URL:https://catholiccemeteries.com.au/events/monthly-mass-rookwood-catholic-cemetery/
LOCATION:Rookwood Catholic Cemetery\, Barnet Avenue\, Rookwood\, NSW\, 2141\, Australia
ATTACH;FMTTYPE=image/jpeg:https://catholiccemeteries.com.au/wp-content/uploads/slider-31.jpg
END:VEVENT
BEGIN:VEVENT
DTSTART;TZID=Australia/Sydney:20220909T113000
DTEND;TZID=Australia/Sydney:20220909T123000
DTSTAMP:20260420T104550
CREATED:20220705T075400Z
LAST-MODIFIED:20221117T045627Z
UID:9259-1662723000-1662726600@catholiccemeteries.com.au
SUMMARY:Compassionate Companions
DESCRIPTION:A safe place where stories are shared and memories are honoured. \nWhen: Fortnightly on Fridays\nTime: 11.30am – 12.30pm \nJoin us on Zoom \n\nMeeting ID: 969 4042 6907\n\nPasscode: 437686
URL:https://catholiccemeteries.com.au/events/compassionate-companions-6/
LOCATION:Online Event
ATTACH;FMTTYPE=image/jpeg:https://catholiccemeteries.com.au/wp-content/uploads/GC-CompCom-Banner1-web.jpg
END:VEVENT
BEGIN:VEVENT
DTSTART;TZID=Australia/Sydney:20220906T110000
DTEND;TZID=Australia/Sydney:20220906T120000
DTSTAMP:20260420T104550
CREATED:20220721T003916Z
LAST-MODIFIED:20220721T030003Z
UID:15349-1662462000-1662465600@catholiccemeteries.com.au
SUMMARY:Bereaved Parents Group
DESCRIPTION:Bereaved Parents Group \nA space for your grief and a chance to connect with other bereaved parents.\nMorning tea is provided. \nWhen: 6th September 2022\nWhere: To Be confirmed each Month\nTime: 11am-12 pm \nPlease RSVP prior to:\nCarmela Di Pietro: Phone: 0498 271 649 or Email:  carmela@catholiccemeteries.com.au
URL:https://catholiccemeteries.com.au/events/bereaved-parents-group-3/
LOCATION:NSW
ATTACH;FMTTYPE=image/jpeg:https://catholiccemeteries.com.au/wp-content/uploads/GC-BereavedParent-FB-0522-e1658362474872.jpg
END:VEVENT
END:VCALENDAR