BEGIN:VCALENDAR
VERSION:2.0
PRODID:-//Catholic Cemeteries &amp; Crematoria - ECPv6.15.14//NONSGML v1.0//EN
CALSCALE:GREGORIAN
METHOD:PUBLISH
X-WR-CALNAME:Catholic Cemeteries &amp; Crematoria
X-ORIGINAL-URL:https://catholiccemeteries.com.au
X-WR-CALDESC:Events for Catholic Cemeteries &amp; Crematoria
REFRESH-INTERVAL;VALUE=DURATION:PT1H
X-Robots-Tag:noindex
X-PUBLISHED-TTL:PT1H
BEGIN:VTIMEZONE
TZID:Australia/Sydney
BEGIN:STANDARD
TZOFFSETFROM:+1100
TZOFFSETTO:+1000
TZNAME:AEST
DTSTART:20200404T160000
END:STANDARD
BEGIN:DAYLIGHT
TZOFFSETFROM:+1000
TZOFFSETTO:+1100
TZNAME:AEDT
DTSTART:20201003T160000
END:DAYLIGHT
BEGIN:STANDARD
TZOFFSETFROM:+1100
TZOFFSETTO:+1000
TZNAME:AEST
DTSTART:20210403T160000
END:STANDARD
BEGIN:DAYLIGHT
TZOFFSETFROM:+1000
TZOFFSETTO:+1100
TZNAME:AEDT
DTSTART:20211002T160000
END:DAYLIGHT
BEGIN:STANDARD
TZOFFSETFROM:+1100
TZOFFSETTO:+1000
TZNAME:AEST
DTSTART:20220402T160000
END:STANDARD
BEGIN:DAYLIGHT
TZOFFSETFROM:+1000
TZOFFSETTO:+1100
TZNAME:AEDT
DTSTART:20221001T160000
END:DAYLIGHT
END:VTIMEZONE
BEGIN:VEVENT
DTSTART;TZID=Australia/Sydney:20211212T193000
DTEND;TZID=Australia/Sydney:20211212T203000
DTSTAMP:20260420T143623
CREATED:20211116T071117Z
LAST-MODIFIED:20211116T071117Z
UID:8993-1639337400-1639341000@catholiccemeteries.com.au
SUMMARY:Christmas Remembrance Mass
DESCRIPTION:Catholic Cemeteries + Crematoria warmly invites you and your family to join us for our special interfaith Christmas Remembrance Service\n\n\nSunday 12th December 2021 at 7.30pm\, St Mary’s Cathedral College St\, Sydney\n\nPresided by Bishop Terence Brady\, with live music performances.\nAfter the service\, please join us to view the Lights of Christmas.\n\nAll visitors to the Cathedral must check in with a QR code and wear a mask.\nThose who are unable to attend in person can join via live- stream from St Mary’s Cathedral
URL:https://catholiccemeteries.com.au/events/christmas-remembrance-mass/
LOCATION:NSW
ATTACH;FMTTYPE=image/jpeg:https://catholiccemeteries.com.au/wp-content/uploads/XMAS-MASS-2021.jpg
END:VEVENT
BEGIN:VEVENT
DTSTART;TZID=Australia/Sydney:20211203T193000
DTEND;TZID=Australia/Sydney:20211203T203000
DTSTAMP:20260420T143623
CREATED:20211201T034019Z
LAST-MODIFIED:20211201T034019Z
UID:9016-1638559800-1638563400@catholiccemeteries.com.au
SUMMARY:Mention My Name Prayer Service - All Saints Catholic Church Liverpool
DESCRIPTION:Please join us for this special Prayer Service to remember those who have lost their lives through suicide and pray for their grieving family\, friends\, caregivers and first responders. \n7.30pm Friday 3rd December 2021\nAll Saints Catholic Parish\, Liverpool\nCelebrant Fr Michael Smith \nJoin the Mass Live Stream \nView the Order of Service Booklet
URL:https://catholiccemeteries.com.au/events/mention-my-name-prayer-service-all-saints-liverpool/
LOCATION:NSW
ATTACH;FMTTYPE=image/jpeg:https://catholiccemeteries.com.au/wp-content/uploads/MMName-fb-0921.jpg
END:VEVENT
BEGIN:VEVENT
DTSTART;TZID=Australia/Sydney:20211202T193000
DTEND;TZID=Australia/Sydney:20211202T203000
DTSTAMP:20260420T143623
CREATED:20211201T033752Z
LAST-MODIFIED:20211201T033752Z
UID:9014-1638473400-1638477000@catholiccemeteries.com.au
SUMMARY:Men’s Grief Gathering – Zoom Meeting
DESCRIPTION:We are inviting men who are grieving\, or experienced loss\, to join us in a safe and confidential online gathering. It’s an opportunity to share experiences or just ‘be” and listen. \nNo judgements. No fixing. Just listening and walking alongside each other in grief. \nWhen: 2 September 2021 @ 7.30pm via Zoom \nJoin the Zoom Meeting \nFor details\, please call Terry from the Grief Care Team on 9646 6908 during business hours or email tgrady@catholiccemeteries.com.au or search ‘Men’s Grief Gathering’ on Facebook
URL:https://catholiccemeteries.com.au/events/mens-grief-gathering-zoom-meeting-2/
LOCATION:NSW
ATTACH;FMTTYPE=image/jpeg:https://catholiccemeteries.com.au/wp-content/uploads/web-mens-gathering-1.jpg
END:VEVENT
BEGIN:VEVENT
DTSTART;TZID=Australia/Sydney:20211117T120000
DTEND;TZID=Australia/Sydney:20211117T140000
DTSTAMP:20260420T143623
CREATED:20211028T204503Z
LAST-MODIFIED:20211028T204503Z
UID:8969-1637150400-1637157600@catholiccemeteries.com.au
SUMMARY:Memorial Mass for Deceased Clergy + Religious
DESCRIPTION:Please join us for this very special Memorial Mass for Deceased Clergy + Religious. \nLive-streamed on 17th November at 12pm\, from the St Michael the Archangel Chapel at Rookwood Catholic Cemetery. \nVIEW THE LIVE-STREAM MASS \nVIEW THE ORDER OF SERVICE BOOKLET
URL:https://catholiccemeteries.com.au/events/memorial-mass-for-deceased-clergy-religious/
LOCATION:NSW
ATTACH;FMTTYPE=image/jpeg:https://catholiccemeteries.com.au/wp-content/uploads/Deceased-Priest-Mass-fb-2021.jpg
END:VEVENT
BEGIN:VEVENT
DTSTART;TZID=Australia/Sydney:20211030T120000
DTEND;TZID=Australia/Sydney:20211030T130000
DTSTAMP:20260420T143623
CREATED:20211014T043551Z
LAST-MODIFIED:20211014T043551Z
UID:8931-1635595200-1635598800@catholiccemeteries.com.au
SUMMARY:All Souls Day Online Memorial Mass
DESCRIPTION:Join us for our special Online All Souls Day Mass \n30th October 2021 at 12pm \nLive-Streamed from the Mausoleum of the Resurrection Chapel at Rookwood Catholic Cemetery \nCelebrant:\nMost Reverend Terence Brady  DD VG EV\nAuxiliary Bishop of Sydney \nJOIN THE LIVE STREAM-MASS \nVIEW THE ORDER OF SERVICE BOOKLET
URL:https://catholiccemeteries.com.au/events/all-souls-day-online-memorial-mass/
LOCATION:NSW
ATTACH;FMTTYPE=image/jpeg:https://catholiccemeteries.com.au/wp-content/uploads/All-Souls-Day-Mass-2021.jpg
END:VEVENT
BEGIN:VEVENT
DTSTART;TZID=Australia/Sydney:20211020T183000
DTEND;TZID=Australia/Sydney:20211120T200000
DTSTAMP:20260420T143623
CREATED:20211010T082421Z
LAST-MODIFIED:20211010T082421Z
UID:8927-1634754600-1637438400@catholiccemeteries.com.au
SUMMARY:Wave of Light Memorial Service
DESCRIPTION:  \nJoin us Online for this very special Pregnancy\, Infant & Child Loss Memorial Service \nThe Wave of Light memorial service will be available to view online from the 20th October\, 2021 \nCelebrant: Fr Peter Guy msc\nFilmed at St Gerard Majella Lawns\, Rookwood Catholic Cemetery \nView the Wave of Light Memorial Mass \nView the order of Service Booklet
URL:https://catholiccemeteries.com.au/events/wave-of-light-memorial-service/
LOCATION:NSW
ATTACH;FMTTYPE=image/jpeg:https://catholiccemeteries.com.au/wp-content/uploads/wavw-light-memorial-servoce-2021.jpg
END:VEVENT
BEGIN:VEVENT
DTSTART;TZID=Australia/Sydney:20211019T090000
DTEND;TZID=Australia/Sydney:20211030T170000
DTSTAMP:20260420T143623
CREATED:20211014T044303Z
LAST-MODIFIED:20211014T044303Z
UID:8935-1634634000-1635613200@catholiccemeteries.com.au
SUMMARY:Pregnancy\, Infant and Child Loss - online Remembrance Mass
DESCRIPTION:Please join us online for our Pregnancy\, Infancy and Child Loss Remembrance Mass \nMass of the Blessed Virgin Mary (OM)\nRecorded at St Paul’s Catholic Church\, Camden\nCelebrant: Fr Michael Williams PP \nView the Remembrance Mass \nView the Order of Service Booklet
URL:https://catholiccemeteries.com.au/events/pregnancy-infant-and-child-loss-remembrance-mass/
LOCATION:NSW
ATTACH;FMTTYPE=image/jpeg:https://catholiccemeteries.com.au/wp-content/uploads/CCC-Pregnancy-Infant-Loss-Memorial-Service-2020.jpg
END:VEVENT
BEGIN:VEVENT
DTSTART;TZID=Australia/Sydney:20211013T103000
DTEND;TZID=Australia/Sydney:20211013T233000
DTSTAMP:20260420T143623
CREATED:20210919T090405Z
LAST-MODIFIED:20210919T090405Z
UID:8872-1634121000-1634167800@catholiccemeteries.com.au
SUMMARY:Monthly Mass Liverpool Cemetery
DESCRIPTION:Please join us for our Online Monthly Mass\nat 10.30am\, Live-streamed from the All Saints Parish\, Liverpool\nwith Fr Michael Smith. \nFollowed by Compassionate Companions \nVIEW MONTHLY MASS
URL:https://catholiccemeteries.com.au/events/online-monthly-mass-liverpool/
LOCATION:NSW
ATTACH;FMTTYPE=image/jpeg:https://catholiccemeteries.com.au/wp-content/uploads/Statue-Liverpool-1.jpg
END:VEVENT
BEGIN:VEVENT
DTSTART;TZID=Australia/Sydney:20211007T190000
DTEND;TZID=Australia/Sydney:20211007T200000
DTSTAMP:20260420T143623
CREATED:20210919T090928Z
LAST-MODIFIED:20210919T090928Z
UID:8874-1633633200-1633636800@catholiccemeteries.com.au
SUMMARY:Join us for our Men’s Grief Gathering
DESCRIPTION:We are inviting men who are grieving\, or experienced loss\, to join us in a safe and confidential online gathering. It’s an opportunity to share experiences or just ‘be” and listen. \nNo judgements. No fixing. Just listening and walking alongside each other in grief. \nOur next meeting will be held at 7.30 pm on Thursday 7 October 2021 via Zoom \nJoin Zoom Meeting \nMeeting ID: 834 1432 1878\nPasscode: 446258 \nFor further details\, please call Terry from the Grief Care Team on 9646 6908 during business hours or email tgrady@catholiccemeteries.com.au or search ‘Men’s Grief Gathering’ on Facebook
URL:https://catholiccemeteries.com.au/events/join-us-for-our-mens-grief-gathering/
LOCATION:NSW
ATTACH;FMTTYPE=image/jpeg:https://catholiccemeteries.com.au/wp-content/uploads/web-mens-gathering-1.jpg
END:VEVENT
BEGIN:VEVENT
DTSTART;TZID=Australia/Sydney:20211007T110000
DTEND;TZID=Australia/Sydney:20211007T120000
DTSTAMP:20260420T143623
CREATED:20210926T233143Z
LAST-MODIFIED:20210926T233143Z
UID:8902-1633604400-1633608000@catholiccemeteries.com.au
SUMMARY:Living Well\, Dying Well Webinar
DESCRIPTION:Join us for our Living Well\, Dying Well Webinar \nLiving Well\, Dying Well examines what it means to live well and how it is connected to dying well. We explore the themes around living well and dying well\, offer some insights and connections to further information and support\, and look at what the Catholic Church says about death and explore its traditions around dying\, death\, burial\, and life beyond the earthly realm. \nWe invite you to join us on 7 October at 11am to hear from specialists and professionals in the fields of end of life and palliative care. \nRegister today and reserve your place.
URL:https://catholiccemeteries.com.au/events/living-well-dying-well-webinar/
LOCATION:NSW
ATTACH;FMTTYPE=image/png:https://catholiccemeteries.com.au/wp-content/uploads/LWDW-content-woman.png
END:VEVENT
BEGIN:VEVENT
DTSTART;TZID=Australia/Sydney:20211005T100000
DTEND;TZID=Australia/Sydney:20211005T110000
DTSTAMP:20260420T143623
CREATED:20210903T103623Z
LAST-MODIFIED:20220803T004731Z
UID:8836-1633428000-1633431600@catholiccemeteries.com.au
SUMMARY:Ageing Well - Masterclass 5
DESCRIPTION:Masterclass 5: Ageing Gracefully\, Living Fruitfully\n\n\n\n\n\n\n\n10am\, 5 October 2021 \nThey shall bear fruit in old age.\nThey shall be fresh and flourishing’ Psalm 92: 12 -13\nCatholic spirituality of ageing exploring blessings & challenges for a more faith filled life. God’s final call to a strong finish. \nFIND OUT MORE \nREGISTER NOW
URL:https://catholiccemeteries.com.au/events/ageing-gracefully-living-fruitfully/
LOCATION:NSW
ATTACH;FMTTYPE=image/png:https://catholiccemeteries.com.au/wp-content/uploads/Catholic_Traditions_Ageing_Well_thumb.width-500.png
END:VEVENT
BEGIN:VEVENT
DTSTART;VALUE=DATE:20211002
DTEND;VALUE=DATE:20211003
DTSTAMP:20260420T143623
CREATED:20210926T232618Z
LAST-MODIFIED:20210926T232618Z
UID:8898-1633132800-1633219199@catholiccemeteries.com.au
SUMMARY:Mention My Name Memorial Mass 2021
DESCRIPTION:Please join us for this special online Memorial Mass to remember those who have lost their lives through suicide and pray for their grieving family\, friends\, caregivers and first responders. \nSaturday 2nd October\, 2021\nCelebrant: Fr Michael Healy – Parish Priest \nFilmed at St Thomas More Catholic Church \nView the Mass Online \nView the Order of Service Booklet
URL:https://catholiccemeteries.com.au/events/mention-my-name-memorial-mass/
LOCATION:NSW
ATTACH;FMTTYPE=image/jpeg:https://catholiccemeteries.com.au/wp-content/uploads/MMName-fb-0921.jpg
END:VEVENT
BEGIN:VEVENT
DTSTART;VALUE=DATE:20211002
DTEND;VALUE=DATE:20211003
DTSTAMP:20260420T143623
CREATED:20210919T085818Z
LAST-MODIFIED:20210919T085818Z
UID:8868-1633132800-1633219199@catholiccemeteries.com.au
SUMMARY:Mention My Name Online Memorial Mass
DESCRIPTION:Please join us for this special online Memorial Mass to remember those who have lost their lives through suicide and pray for their grieving family\, friends\, caregivers and first responders. \nSaturday 2nd October\, 2021\nCelebrant: Fr Michael Healy – Parish Priest \nFilmed at St Thomas More Catholic Church \nView the Mass Online \nView the Order of Service Booklet
URL:https://catholiccemeteries.com.au/events/mention-my-name-online-memorial-mass/
LOCATION:NSW
ATTACH;FMTTYPE=image/jpeg:https://catholiccemeteries.com.au/wp-content/uploads/MMName-fb-0921.jpg
END:VEVENT
BEGIN:VEVENT
DTSTART;TZID=Australia/Sydney:20210928T100000
DTEND;TZID=Australia/Sydney:20210928T110000
DTSTAMP:20260420T143623
CREATED:20210903T103221Z
LAST-MODIFIED:20210903T103221Z
UID:8834-1632823200-1632826800@catholiccemeteries.com.au
SUMMARY:Ageing Well - Masterclass 4
DESCRIPTION:Masterclass 4: Financial Planning for Retirement and Beyond\n\n\n\n\n\n\n\n10am\, 28 September 2021 \nMasterclass 4 brings in our financial experts to help you map out your financial needs in retirement\, we’ll also look at what to prepare for financially and legally from the NSW Trustee & Guardian. \nFIND OUT MORE \nREGISTER NOW
URL:https://catholiccemeteries.com.au/events/ageing-well-masterclass-2/
LOCATION:NSW
ATTACH;FMTTYPE=image/png:https://catholiccemeteries.com.au/wp-content/uploads/Financial_Management_and_Ageing_Well_Ageing_We.width-500.png
END:VEVENT
BEGIN:VEVENT
DTSTART;TZID=Australia/Sydney:20210921T100000
DTEND;TZID=Australia/Sydney:20210921T110000
DTSTAMP:20260420T143623
CREATED:20210903T102654Z
LAST-MODIFIED:20210903T102654Z
UID:8832-1632218400-1632222000@catholiccemeteries.com.au
SUMMARY:Ageing Well - Masterclass 3
DESCRIPTION:Masterclass 3: Navigating Aged Care\n\n\n\n\n\n\n\n10am\, 21 September 2021 \nDelving into physical exercise\, nutrition\, fall prevention\, health checks\, carer fatigue\, and memory loss. \nFIND OUT MORE \nREGISTER NOW
URL:https://catholiccemeteries.com.au/events/masterclass-3-navigating-aged-care-webinar/
LOCATION:NSW
ATTACH;FMTTYPE=image/png:https://catholiccemeteries.com.au/wp-content/uploads/Navigating_Aged_Care_Resources_Ageing_Well_Thu.width-500.png
END:VEVENT
BEGIN:VEVENT
DTSTART;TZID=Australia/Sydney:20210914T100000
DTEND;TZID=Australia/Sydney:20210914T110000
DTSTAMP:20260420T143623
CREATED:20210903T101828Z
LAST-MODIFIED:20210903T101828Z
UID:8827-1631613600-1631617200@catholiccemeteries.com.au
SUMMARY:Ageing Well - Masterclass 2
DESCRIPTION:Masterclass 2: Physical Wellbeing\n\n\n\n\n\n\n10am\, 14 September 2021 \nDelving into physical exercise\, nutrition\, fall prevention\, health checks\, carer fatigue\, and memory loss. \nFIND OUT MORE \nREGISTER NOW
URL:https://catholiccemeteries.com.au/events/ageing-well-masterclass-2-physical-wellbeing/
LOCATION:NSW
ATTACH;FMTTYPE=image/png:https://catholiccemeteries.com.au/wp-content/uploads/Physical_Wellbeing_Ageing_Well_thumb.width-500.png
END:VEVENT
BEGIN:VEVENT
DTSTART;TZID=Australia/Sydney:20210908T103000
DTEND;TZID=Australia/Sydney:20210908T113000
DTSTAMP:20260420T143623
CREATED:20210802T000612Z
LAST-MODIFIED:20210802T000612Z
UID:8743-1631097000-1631100600@catholiccemeteries.com.au
SUMMARY:September Monthly Mass Liverpool Cemetery
DESCRIPTION:Please join us for our Online Monthly Mass\nat 10.30am\, Live-streamed from the All Saints Parish\, Liverpool\nwith Fr Michael Smith. \nFollowed by Compassionate Companions \nVIEW MONTHLY MASS
URL:https://catholiccemeteries.com.au/events/monthly-mass-liverpool-cemetery-3/
LOCATION:NSW
ATTACH;FMTTYPE=image/jpeg:https://catholiccemeteries.com.au/wp-content/uploads/CCC-home-Slide-3.jpg
END:VEVENT
BEGIN:VEVENT
DTSTART;TZID=Australia/Sydney:20210907T100000
DTEND;TZID=Australia/Sydney:20210907T120000
DTSTAMP:20260420T143623
CREATED:20210831T214541Z
LAST-MODIFIED:20220919T012616Z
UID:8799-1631008800-1631016000@catholiccemeteries.com.au
SUMMARY:Ageing Well - Masterclass 1
DESCRIPTION:Masterclass 1: Social Connection and Psychological Wellbeing\n10 am\, 7 September 2021 \nExploring the importance of social connections and ways to improve social connection\, mental illness in later life\, and 5 ways to wellbeing. \nOur masterclasses are delivered online via a webinar system that will mean you can join in easily from home. Masterclasses will be held weekly starting 10 am \nFIND OUT MORE \nREGISTER NOW
URL:https://catholiccemeteries.com.au/events/the-ageing-well-masterclasses-are-designed-to-help-you-navigate-some-of-the-issues-around-ageing-provide-practical-advice-and-support-along-with-information-about-the-services-available-to-you/
LOCATION:NSW
ATTACH;FMTTYPE=image/png:https://catholiccemeteries.com.au/wp-content/uploads/Social_Connection_and_Psychological_Wellbeing_.width-500.png
END:VEVENT
BEGIN:VEVENT
DTSTART;TZID=Australia/Sydney:20210904T130000
DTEND;TZID=Australia/Sydney:20210904T143000
DTSTAMP:20260420T143623
CREATED:20210830T210220Z
LAST-MODIFIED:20210830T210220Z
UID:8791-1630760400-1630765800@catholiccemeteries.com.au
SUMMARY:Join us for our Special Father's Day Zoom Mass
DESCRIPTION:Please join us for a special livestreamed Father’s Day Mass on Saturday 4th\, September 2021 at 1pm\nWhen you join the Zoom mass you will have the option to your camera off if you do not wish to be seen in the live-stream recording. \nJoin the Zoom live stream Father’s Day Mass \nFollow the Father’s Day Mass with our online Order of Service booklet \nOur Zoom Father’s Day Mass will be also be simultaneously played and recorded on our Grief Care YouTube channel. \nWatch the Father’s Day Mass on our YouTube channel
URL:https://catholiccemeteries.com.au/events/join-us-for-our-special-fathers-day-zoom-mass/
LOCATION:NSW
ATTACH;FMTTYPE=image/jpeg:https://catholiccemeteries.com.au/wp-content/uploads/LCC-Fathers-Day-Events-slider3.jpg
END:VEVENT
BEGIN:VEVENT
DTSTART;TZID=Australia/Sydney:20210902T193000
DTEND;TZID=Australia/Sydney:20210902T203000
DTSTAMP:20260420T143623
CREATED:20210805T064244Z
LAST-MODIFIED:20210805T064244Z
UID:8755-1630611000-1630614600@catholiccemeteries.com.au
SUMMARY:Men’s Grief Gathering - Zoom Meeting
DESCRIPTION:We are inviting men who are grieving\, or experienced loss\, to join us in a safe and confidential online gathering. It’s an opportunity to share experiences or just ‘be” and listen. \nNo judgements. No fixing. Just listening and walking alongside each other in grief. \nWhen: 2 September 2021 @ 7.30pm via Zoom \nJoin the Zoom Meeting \nFor details\, please call Terry from the Grief Care Team on 9646 6908 during business hours or email tgrady@catholiccemeteries.com.au or search ‘Men’s Grief Gathering’ on Facebook
URL:https://catholiccemeteries.com.au/events/mens-grief-gathering-zoom-meeting/
LOCATION:NSW
ATTACH;FMTTYPE=image/jpeg:https://catholiccemeteries.com.au/wp-content/uploads/web-mens-gathering.jpg
END:VEVENT
BEGIN:VEVENT
DTSTART;TZID=Australia/Sydney:20210811T120000
DTEND;TZID=Australia/Sydney:20210811T123000
DTSTAMP:20260420T143623
CREATED:20210725T221117Z
LAST-MODIFIED:20210725T221117Z
UID:8721-1628683200-1628685000@catholiccemeteries.com.au
SUMMARY:Join us for our Press Pause Zoom Meeting every Wellbeing Wednesday
DESCRIPTION:Press pause….and rest a while\, every Wellbeing Wednesday\nJoin our Zoom meeting where people can reflect\, meditate and quiet themselves with a bit of opportunity to comment or share their reflection. \nWhen: Wednesday\, 28th July.\nStart Time: 12pm\nSession Duration: 30 minutes \nJoin the Zoom Meeting
URL:https://catholiccemeteries.com.au/events/press-pause-and-rest-a-while-zoom-meeting-every-wellbeing-wednesday/
LOCATION:NSW
ATTACH;FMTTYPE=image/jpeg:https://catholiccemeteries.com.au/wp-content/uploads/Press-Pause_FB_0721.jpg
END:VEVENT
BEGIN:VEVENT
DTSTART;TZID=Australia/Sydney:20210811T080000
DTEND;TZID=Australia/Sydney:20210811T170000
DTSTAMP:20260420T143623
CREATED:20210725T222159Z
LAST-MODIFIED:20210725T222159Z
UID:8727-1628668800-1628701200@catholiccemeteries.com.au
SUMMARY:August Monthly Mass - Cancelled
DESCRIPTION:Due to the latest COVID restrictions\, please note that all August Monthly Masses have been cancelled.
URL:https://catholiccemeteries.com.au/events/all-august-monthly-masses-have-been-cancelled/
LOCATION:NSW
ATTACH;FMTTYPE=image/jpeg:https://catholiccemeteries.com.au/wp-content/uploads/CCC-home-Slide-1.jpg
END:VEVENT
BEGIN:VEVENT
DTSTART;TZID=Australia/Sydney:20210714T103000
DTEND;TZID=Australia/Sydney:20210714T113000
DTSTAMP:20260420T143623
CREATED:20210519T233705Z
LAST-MODIFIED:20210519T233705Z
UID:8583-1626258600-1626262200@catholiccemeteries.com.au
SUMMARY:July Monthly Mass Liverpool Cemetery - Cancelled
DESCRIPTION:Due to the latest COVID restrictions\, please note that all August Monthly Masses have been cancelled. \n 
URL:https://catholiccemeteries.com.au/events/monthly-mass-liverpool-cemetery-2/
LOCATION:NSW
ATTACH;FMTTYPE=image/jpeg:https://catholiccemeteries.com.au/wp-content/uploads/CCC-home-Slide-3.jpg
END:VEVENT
BEGIN:VEVENT
DTSTART;TZID=Australia/Sydney:20210609T103000
DTEND;TZID=Australia/Sydney:20210609T113000
DTSTAMP:20260420T143623
CREATED:20210519T233244Z
LAST-MODIFIED:20210519T233244Z
UID:8579-1623234600-1623238200@catholiccemeteries.com.au
SUMMARY:June Monthly Mass Liverpool Cemetery
DESCRIPTION:Please join us for our Live stream Monthly Mass\n10.30am on the 9th June 2021\nLive-streamed from the All Saints Parish\, Liverpool\nwith Fr Michael Smith \nFollowed by: Compassionate Companions \nView the online Mass
URL:https://catholiccemeteries.com.au/events/8579/
LOCATION:NSW
ATTACH;FMTTYPE=image/jpeg:https://catholiccemeteries.com.au/wp-content/uploads/burial.jpg
END:VEVENT
BEGIN:VEVENT
DTSTART;TZID=Australia/Sydney:20210507T070000
DTEND;TZID=Australia/Sydney:20210507T173000
DTSTAMP:20260420T143623
CREATED:20210414T081722Z
LAST-MODIFIED:20210414T081722Z
UID:8515-1620370800-1620408600@catholiccemeteries.com.au
SUMMARY:Join us online for a special Mother's Day Mass
DESCRIPTION:Please Join us for our online Mother’s Day Mass\nMother’s Day is a special day for many in our community to reflect and show our appreciation and love for our mothers\, grandmothers and mother figures. This year we are unable to come together safely at the cemeteries for our remembrance Masses\, but we will host online masses to honour and remember the lives of these special people. \nBrought to you from the historic St. Michael the Archangel Chapel at Rookwood Catholic Cemetery.\nPrincipal Presider:\nMost Reverend Terence Brady DD VG EV\nAuxiliary Bishop of Sydney\nEpiscopal Vicar for Health\, Welfare and Social Justice\nThe mass is now available to view with the online Order of Service Booklet at a time convenient to you. \nView the online Mass and Service Booklet
URL:https://catholiccemeteries.com.au/events/join-us-online-for-a-special-mothers-day-mass/
LOCATION:NSW
ATTACH;FMTTYPE=image/jpeg:https://catholiccemeteries.com.au/wp-content/uploads/Mothers-Day-2021-2.jpg
END:VEVENT
BEGIN:VEVENT
DTSTART;TZID=Australia/Sydney:20210425T080000
DTEND;TZID=Australia/Sydney:20210425T170000
DTSTAMP:20260420T143623
CREATED:20210318T201130Z
LAST-MODIFIED:20210318T201130Z
UID:8491-1619337600-1619370000@catholiccemeteries.com.au
SUMMARY:Anzac Day Office Closed
DESCRIPTION:Anzac Day Office Closure \nPlease note that our offices will be closed\, and no funeral services will be permitted to take place on Anzac Day\, Sunday 25th April\, 2021. \nWe will Remember Them
URL:https://catholiccemeteries.com.au/events/anzac-day-office-closed/
LOCATION:NSW
ATTACH;FMTTYPE=image/jpeg:https://catholiccemeteries.com.au/wp-content/uploads/Anzac-Day.jpg
END:VEVENT
BEGIN:VEVENT
DTSTART;TZID=Australia/Sydney:20210414T103000
DTEND;TZID=Australia/Sydney:20210414T113000
DTSTAMP:20260420T143623
CREATED:20210315T003103Z
LAST-MODIFIED:20210315T003103Z
UID:8486-1618396200-1618399800@catholiccemeteries.com.au
SUMMARY:Monthly Mass
DESCRIPTION:Please join us for our Live stream April Monthly Mass\n10.30am on the 14 April 2021\nLive-streamed from the All Saints Parish\, Liverpool\nwith Fr Michael Smith \nFollowed by: Compassionate Companions \nView the online Mass
URL:https://catholiccemeteries.com.au/events/please-join-us-for-our-live-stream-april-monthly-mass/
LOCATION:NSW
ATTACH;FMTTYPE=image/jpeg:https://catholiccemeteries.com.au/wp-content/uploads/CCC-home-Slide-3.jpg
END:VEVENT
BEGIN:VEVENT
DTSTART;TZID=Australia/Sydney:20210402T080000
DTEND;TZID=Australia/Sydney:20210405T170000
DTSTAMP:20260420T143623
CREATED:20210318T200109Z
LAST-MODIFIED:20210318T200109Z
UID:8488-1617350400-1617642000@catholiccemeteries.com.au
SUMMARY:Easter Office Closures
DESCRIPTION:Easter Office Closures \nPlease note that our offices will be closed\, and no funeral services will be permitted to take place on the days below. \n\nGOOD FRIDAY – Friday\, April 2nd 2021\nEASTER SATURDAY – Saturday\, April 3rd 2021\nEASTER SUNDAY – Sunday\, April 4th 2021\nEASTER MONDAY – Monday\, April 5th 2021
URL:https://catholiccemeteries.com.au/events/easter-office-closures/
LOCATION:NSW
ATTACH;FMTTYPE=image/jpeg:https://catholiccemeteries.com.au/wp-content/uploads/Easter.jpg
END:VEVENT
BEGIN:VEVENT
DTSTART;TZID=Australia/Sydney:20210330T100000
DTEND;TZID=Australia/Sydney:20210330T130000
DTSTAMP:20260420T143623
CREATED:20210315T000451Z
LAST-MODIFIED:20210315T000451Z
UID:8474-1617098400-1617109200@catholiccemeteries.com.au
SUMMARY:Create your Own Pysanky – Traditional Easter Egg Decorating
DESCRIPTION:Create your Own Pysanky\, traditional easter egg decorating from the Ukraine using wax and dyes. \nJoin us for Traditional Easter egg decorating in this 3-hour workshop you will have an opportunity to create your own beautiful symbols of Easter hope to offer to and for those you love. \nLocation: St Michael the Archangel Chapel+ Catholic Heritage Centre (next door)\, Rookwood Catholic Cemetery\nDate: Tuesday 30 March 2021\nTime: 10am – 1pm \nFree! All materials + morning tea provided. Apron to cover clothing + open heart  \nYou do not have to have any previous experience or particular artistic gifts to participate. Come and be led in a simple step-by-step way\, enjoy the creative and meditative process and prepare for Easter in this special way. \nTo join us for Traditional Easter egg decorating please RSVP \nRSVP: paigeb@catholiccemeteries.com.au by Wednesday 24 March (Numbers limited) \nWe look forward to sharing this unique experience with you. – Grief Care Team \nPlease note that due to the nature of this creative process using hot wax and dyes\, children will not be permitted to attend. \nVisit the grief Care website https://catholiccemeteries.com.au/grief-care/
URL:https://catholiccemeteries.com.au/events/create-your-own-pysanky-traditional-easter-egg-decorating/
LOCATION:Rookwood Catholic Cemetery\, Barnet Avenue\, Rookwood\, NSW\, 2141\, Australia
ATTACH;FMTTYPE=image/jpeg:https://catholiccemeteries.com.au/wp-content/uploads/Pysanky.jpg
END:VEVENT
BEGIN:VEVENT
DTSTART;TZID=Australia/Sydney:20210310T103000
DTEND;TZID=Australia/Sydney:20210310T113000
DTSTAMP:20260420T143623
CREATED:20210218T045802Z
LAST-MODIFIED:20210218T045802Z
UID:8365-1615372200-1615375800@catholiccemeteries.com.au
SUMMARY:Monthly Mass 10 March 2021 Liverpool Cemetery
DESCRIPTION:Please join us for our February Monthly Mass Liverpool Cemetery\n10.30am on the 10 March 2021\nLive-streamed from the All Saints Parish\, Liverpool\nwith Fr Michael Smith \nFollowed by: Compassionate Companions \nView the online Mass
URL:https://catholiccemeteries.com.au/events/monthly-mass-10-march-2021-liverpool-cemetery/
LOCATION:NSW
ATTACH;FMTTYPE=image/jpeg:https://catholiccemeteries.com.au/wp-content/uploads/CCC-home-Slide-3.jpg
END:VEVENT
END:VCALENDAR