BEGIN:VCALENDAR
VERSION:2.0
PRODID:-//Catholic Cemeteries &amp; Crematoria - ECPv6.15.14//NONSGML v1.0//EN
CALSCALE:GREGORIAN
METHOD:PUBLISH
X-ORIGINAL-URL:https://catholiccemeteries.com.au
X-WR-CALDESC:Events for Catholic Cemeteries &amp; Crematoria
REFRESH-INTERVAL;VALUE=DURATION:PT1H
X-Robots-Tag:noindex
X-PUBLISHED-TTL:PT1H
BEGIN:VTIMEZONE
TZID:Australia/Sydney
BEGIN:STANDARD
TZOFFSETFROM:+1100
TZOFFSETTO:+1000
TZNAME:AEST
DTSTART:20230401T160000
END:STANDARD
BEGIN:DAYLIGHT
TZOFFSETFROM:+1000
TZOFFSETTO:+1100
TZNAME:AEDT
DTSTART:20230930T160000
END:DAYLIGHT
BEGIN:STANDARD
TZOFFSETFROM:+1100
TZOFFSETTO:+1000
TZNAME:AEST
DTSTART:20240406T160000
END:STANDARD
BEGIN:DAYLIGHT
TZOFFSETFROM:+1000
TZOFFSETTO:+1100
TZNAME:AEDT
DTSTART:20241005T160000
END:DAYLIGHT
BEGIN:STANDARD
TZOFFSETFROM:+1100
TZOFFSETTO:+1000
TZNAME:AEST
DTSTART:20250405T160000
END:STANDARD
BEGIN:DAYLIGHT
TZOFFSETFROM:+1000
TZOFFSETTO:+1100
TZNAME:AEDT
DTSTART:20251004T160000
END:DAYLIGHT
END:VTIMEZONE
BEGIN:VEVENT
DTSTART;TZID=Australia/Sydney:20240207T190000
DTEND;TZID=Australia/Sydney:20240207T210000
DTSTAMP:20260421T224502
CREATED:20240109T021203Z
LAST-MODIFIED:20240109T021203Z
UID:17822-1707332400-1707339600@catholiccemeteries.com.au
SUMMARY:Men’s Grief Gathering
DESCRIPTION:The Men’s Grief Gathering will be held monthly on the first Wednesday of every month.\n\nWhere: Loyd’s Bistro\, Dooley’s Lidcombe Catholic Club\n11 – 17 Church Street\, Lidcombe\nTime: 7.00pm\n\nRSVP: team@griefcare.com.au\n\nFor more details\nPlease call the Grief Care Team on 9646 6908 during business hours or email team@griefcare.com.au
URL:https://catholiccemeteries.com.au/events/mens-grief-gathering-11/
LOCATION:Dooleys Catholic Club Lidcombe\, 11-17 Church Street\, Lidcombe\, NSW\, 2141\, Australia
ATTACH;FMTTYPE=image/jpeg:https://catholiccemeteries.com.au/wp-content/uploads/web-mens-gathering-1.jpg
END:VEVENT
END:VCALENDAR