BEGIN:VCALENDAR
VERSION:2.0
PRODID:-//Catholic Cemeteries &amp; Crematoria - ECPv6.15.14//NONSGML v1.0//EN
CALSCALE:GREGORIAN
METHOD:PUBLISH
X-ORIGINAL-URL:https://catholiccemeteries.com.au
X-WR-CALDESC:Events for Catholic Cemeteries &amp; Crematoria
REFRESH-INTERVAL;VALUE=DURATION:PT1H
X-Robots-Tag:noindex
X-PUBLISHED-TTL:PT1H
BEGIN:VTIMEZONE
TZID:Australia/Sydney
BEGIN:STANDARD
TZOFFSETFROM:+1100
TZOFFSETTO:+1000
TZNAME:AEST
DTSTART:20220402T160000
END:STANDARD
BEGIN:DAYLIGHT
TZOFFSETFROM:+1000
TZOFFSETTO:+1100
TZNAME:AEDT
DTSTART:20221001T160000
END:DAYLIGHT
BEGIN:STANDARD
TZOFFSETFROM:+1100
TZOFFSETTO:+1000
TZNAME:AEST
DTSTART:20230401T160000
END:STANDARD
BEGIN:DAYLIGHT
TZOFFSETFROM:+1000
TZOFFSETTO:+1100
TZNAME:AEDT
DTSTART:20230930T160000
END:DAYLIGHT
BEGIN:STANDARD
TZOFFSETFROM:+1100
TZOFFSETTO:+1000
TZNAME:AEST
DTSTART:20240406T160000
END:STANDARD
BEGIN:DAYLIGHT
TZOFFSETFROM:+1000
TZOFFSETTO:+1100
TZNAME:AEDT
DTSTART:20241005T160000
END:DAYLIGHT
END:VTIMEZONE
BEGIN:VEVENT
DTSTART;TZID=Australia/Sydney:20231128T180000
DTEND;TZID=Australia/Sydney:20231128T193000
DTSTAMP:20260422T020124
CREATED:20231119T235518Z
LAST-MODIFIED:20231119T235528Z
UID:17529-1701194400-1701199800@catholiccemeteries.com.au
SUMMARY:Taizé Prayer Service
DESCRIPTION:Please join us for this special Taizé Prayer Service. \nThe style of prayer on this evening originated in Taizé\, a small village located in the Burgundy region of France. \nWhen: Tuesday 28th November 2023\nTime: 6pm\nWhere: St Michael the Archangel Chapel\, Rookwood Catholic Cemetery \n\nGrief Care team members are available for pastoral support on all masses.\nP: 02 9646 6908 E: team@griefcare.com.au
URL:https://catholiccemeteries.com.au/events/taize-prayer-service-2/
LOCATION:Rookwood Catholic Cemetery\, Barnet Avenue\, Rookwood\, NSW\, 2141\, Australia
ATTACH;FMTTYPE=image/jpeg:https://catholiccemeteries.com.au/wp-content/uploads/CCC-Taize-fb-1123.jpg
END:VEVENT
END:VCALENDAR